BEGIN:VCALENDAR
VERSION:2.0
PRODID:-//pretix//pretix.eu//
BEGIN:VTIMEZONE
TZID:Europe/Berlin
BEGIN:STANDARD
DTSTART:20001029T040000
RRULE:FREQ=YEARLY;BYDAY=-1SU;BYMONTH=10
TZNAME:CET
TZOFFSETFROM:+0200
TZOFFSETTO:+0100
END:STANDARD
BEGIN:DAYLIGHT
DTSTART:20000326T030000
RRULE:FREQ=YEARLY;BYDAY=-1SU;BYMONTH=3
TZNAME:CEST
TZOFFSETFROM:+0100
TZOFFSETTO:+0200
END:DAYLIGHT
END:VTIMEZONE
BEGIN:VEVENT
UID:pretix-tsgvhh-gard-tsgveitshoechheim-4627179@tsgvhh.vereinsticket.de
DTSTART;TZID=Europe/Berlin:20251001T110000
DTEND;TZID=Europe/Berlin:20251001T120000
DESCRIPTION:Tickets: https://tsgvhh.vereinsticket.de/gard-tsgveitshoechheim
 /4627179/\nVeranstalter: Tanz-Sport-Garde Veitshöchheim
DTSTAMP:20260425T210229Z
LOCATION:Tanz-Sport-Garde Veitshöchheim\, Obere Maingasse\, 97209 Veitshö
 chheim
SUMMARY:Turniertermine 2025/2026
END:VEVENT
END:VCALENDAR
